BEGIN:VCALENDAR
VERSION:2.0
PRODID:open-web-calendar
CALSCALE:GREGORIAN
METHOD:PUBLISH
NAME:Warwick Town Hall
X-WR-CALNAME:Warwick Town Hall
X-PROD-SOURCE:https://github.com/niccokunzmann/open-web-calendar/
BEGIN:VTIMEZONE
TZID:America/New_York
X-TZINFO:America/New_York[2025b]
BEGIN:STANDARD
DTSTART:18831118T120358
RDATE:18831118T120358
TZNAME:America/New_York(STD)
TZOFFSETFROM:-045602
TZOFFSETTO:-0500
END:STANDARD
BEGIN:STANDARD
DTSTART:19181027T020000
RRULE:FREQ=YEARLY;UNTIL=19201031T020000;BYDAY=-1SU;BYMONTH=10
TZNAME:America/New_York(STD)
TZOFFSETFROM:-0400
TZOFFSETTO:-0500
END:STANDARD
BEGIN:STANDARD
DTSTART:19210925T020000
RRULE:FREQ=YEARLY;UNTIL=19410928T020000;BYDAY=-1SU;BYMONTH=9
TZNAME:America/New_York(STD)
TZOFFSETFROM:-0400
TZOFFSETTO:-0500
END:STANDARD
BEGIN:STANDARD
DTSTART:19450930T020000
RRULE:FREQ=YEARLY;UNTIL=19540926T020000;BYDAY=-1SU;BYMONTH=9
TZNAME:America/New_York(STD)
TZOFFSETFROM:-0400
TZOFFSETTO:-0500
END:STANDARD
BEGIN:STANDARD
DTSTART:19551030T020000
RRULE:FREQ=YEARLY;UNTIL=20061029T020000;BYDAY=-1SU;BYMONTH=10
TZNAME:America/New_York(STD)
TZOFFSETFROM:-0400
TZOFFSETTO:-0500
END:STANDARD
BEGIN:STANDARD
DTSTART:20071104T020000
RDATE:20071104T020000
TZNAME:America/New_York(STD)
TZOFFSETFROM:-0400
TZOFFSETTO:-0500
END:STANDARD
BEGIN:STANDARD
DTSTART:20081102T020000
RRULE:FREQ=YEARLY;BYDAY=1SU;BYMONTH=11
TZNAME:(STD)
TZOFFSETFROM:-0400
TZOFFSETTO:-0500
END:STANDARD
BEGIN:DAYLIGHT
DTSTART:19180331T020000
RRULE:FREQ=YEARLY;UNTIL=19200328T020000;BYDAY=-1SU;BYMONTH=3
TZNAME:America/New_York(DST)
TZOFFSETFROM:-0500
TZOFFSETTO:-0400
END:DAYLIGHT
BEGIN:DAYLIGHT
DTSTART:19210424T020000
RRULE:FREQ=YEARLY;UNTIL=19410427T020000;BYDAY=-1SU;BYMONTH=4
TZNAME:America/New_York(DST)
TZOFFSETFROM:-0500
TZOFFSETTO:-0400
END:DAYLIGHT
BEGIN:DAYLIGHT
DTSTART:19420209T020000
RDATE:19420209T020000
TZNAME:America/New_York(DST)
TZOFFSETFROM:-0500
TZOFFSETTO:-0400
END:DAYLIGHT
BEGIN:DAYLIGHT
DTSTART:19460428T020000
RRULE:FREQ=YEARLY;UNTIL=19730429T020000;BYDAY=-1SU;BYMONTH=4
TZNAME:America/New_York(DST)
TZOFFSETFROM:-0500
TZOFFSETTO:-0400
END:DAYLIGHT
BEGIN:DAYLIGHT
DTSTART:19740106T020000
RDATE:19740106T020000
TZNAME:America/New_York(DST)
TZOFFSETFROM:-0500
TZOFFSETTO:-0400
END:DAYLIGHT
BEGIN:DAYLIGHT
DTSTART:19750223T020000
RDATE:19750223T020000
TZNAME:America/New_York(DST)
TZOFFSETFROM:-0500
TZOFFSETTO:-0400
END:DAYLIGHT
BEGIN:DAYLIGHT
DTSTART:19760425T020000
RRULE:FREQ=YEARLY;UNTIL=19860427T020000;BYDAY=-1SU;BYMONTH=4
TZNAME:America/New_York(DST)
TZOFFSETFROM:-0500
TZOFFSETTO:-0400
END:DAYLIGHT
BEGIN:DAYLIGHT
DTSTART:19870405T020000
RRULE:FREQ=YEARLY;UNTIL=20060402T020000;BYDAY=1SU;BYMONTH=4
TZNAME:America/New_York(DST)
TZOFFSETFROM:-0500
TZOFFSETTO:-0400
END:DAYLIGHT
BEGIN:DAYLIGHT
DTSTART:20070311T020000
RDATE:20070311T020000
TZNAME:America/New_York(DST)
TZOFFSETFROM:-0500
TZOFFSETTO:-0400
END:DAYLIGHT
BEGIN:DAYLIGHT
DTSTART:20080309T020000
RRULE:FREQ=YEARLY;BYDAY=2SU;BYMONTH=3
TZNAME:(DST)
TZOFFSETFROM:-0500
TZOFFSETTO:-0400
END:DAYLIGHT
END:VTIMEZONE
BEGIN:VEVENT
SUMMARY:Womans Guild
DTSTART;TZID=America/New_York:20260407T130000
DTEND;TZID=America/New_York:20260407T140000
DTSTAMP:20260317T170817Z
UID:0aca069c-3fc7-4740-a7ac-f2c6a34de971
RRULE:FREQ=MONTHLY;BYDAY=1TU
CREATED:20260317T170632Z
LAST-MODIFIED:20260317T170817Z
TRANSP:OPAQUE
END:VEVENT
BEGIN:VEVENT
SUMMARY:Busy
DTSTART;TZID=America/New_York:20260823T080000
DTEND;TZID=America/New_York:20260823T200000
UID:266adaa5-f064-44ed-93b9-04e0e4cdb7e0
CLASS:CONFIDENTIAL
CREATED:20260416T194658Z
END:VEVENT
BEGIN:VEVENT
SUMMARY:FCTS Special Election
DTSTART;TZID=America/New_York:20261006T120000
DTEND;TZID=America/New_York:20261006T200000
DTSTAMP:20260330T164858Z
UID:3ea2f7b5-c890-4783-906c-c751133d6c53
SEQUENCE:1
CREATED:20260316T164241Z
LAST-MODIFIED:20260330T164858Z
TRANSP:OPAQUE
X-MOZ-GENERATION:1
END:VEVENT
BEGIN:VEVENT
SUMMARY:Tracey Alden Drum Bag Making
DTSTART;TZID=America/New_York:20260419T120000
DTEND;TZID=America/New_York:20260419T180000
DTSTAMP:20260318T195220Z
UID:45ae141c-dea0-435a-943a-7130ba7dbfc5
CLASS:PUBLIC
CREATED:20260317T192407Z
LAST-MODIFIED:20260318T195220Z
TRANSP:OPAQUE
X-MOZ-GENERATION:1
END:VEVENT
BEGIN:VEVENT
SUMMARY:Busy
DTSTART;TZID=America/New_York:20260703T160000
DTEND;TZID=America/New_York:20260703T200000
UID:4cd82e66-d149-4931-aa6a-e337cf1d6f5d
CLASS:CONFIDENTIAL
CREATED:20260318T195316Z
END:VEVENT
BEGIN:VEVENT
SUMMARY:State Election
DTSTART;TZID=America/New_York:20261103T070000
DTEND;TZID=America/New_York:20261103T200000
DTSTAMP:20260316T194312Z
UID:51dea2de-41b8-4753-9e39-2fe1069718cc
CREATED:20260316T194256Z
LAST-MODIFIED:20260316T194312Z
TRANSP:OPAQUE
END:VEVENT
BEGIN:VEVENT
SUMMARY:Health Education wth Alysha
DTSTART;TZID=America/New_York:20260331T130000
DTEND;TZID=America/New_York:20260331T140000
DTSTAMP:20260317T165840Z
UID:5920c97b-8de0-4aef-b2d2-d8eeccee877b
CREATED:20260317T165329Z
LAST-MODIFIED:20260317T165840Z
TRANSP:OPAQUE
END:VEVENT
BEGIN:VEVENT
SUMMARY:Daniel Barber - Piano Recital
DTSTART;TZID=America/New_York:20260530T140000
DTEND;TZID=America/New_York:20260530T160000
DTSTAMP:20260414T173641Z
UID:5e828131-85be-4274-a016-214759f03c48
CREATED:20260414T173557Z
LAST-MODIFIED:20260414T173641Z
TRANSP:OPAQUE
END:VEVENT
BEGIN:VEVENT
SUMMARY:Busy
DTSTART;TZID=America/New_York:20250226T100000
DTEND;TZID=America/New_York:20250226T110000
UID:18453605-f417-4815-b484-496464e409a9
CLASS:CONFIDENTIAL
CREATED:20250210T181536Z
END:VEVENT
BEGIN:VEVENT
SUMMARY:Annual Town Election
DTSTART;TZID=America/New_York:20260518T120000
DTEND;TZID=America/New_York:20260518T200000
DTSTAMP:20260316T194158Z
UID:77ede60b-496c-43cc-b45c-d6f3b0f4f42a
CREATED:20260105T192443Z
LAST-MODIFIED:20260316T194158Z
TRANSP:OPAQUE
END:VEVENT
BEGIN:VEVENT
SUMMARY:Images of Aging
DTSTART;TZID=America/New_York:20261020T170000
DTEND;TZID=America/New_York:20261020T210000
DTSTAMP:20260326T193003Z
UID:82af4230-6034-4b58-a48f-6696fdac2442
CREATED:20260326T192918Z
LAST-MODIFIED:20260326T193003Z
TRANSP:OPAQUE
END:VEVENT
BEGIN:VEVENT
SUMMARY:Bones & Balance
DTSTART;TZID=America/New_York:20260310T090000
DTEND;TZID=America/New_York:20260310T100000
DTSTAMP:20260317T170356Z
UID:96c0d972-01f8-43d4-beaa-c52aa33ec3da
RRULE:FREQ=WEEKLY
CREATED:20260317T170313Z
LAST-MODIFIED:20260317T170356Z
TRANSP:OPAQUE
END:VEVENT
BEGIN:VEVENT
SUMMARY:Yoga
DTSTART;TZID=America/New_York:20260307T090000
DTEND;TZID=America/New_York:20260307T103000
DTSTAMP:20260317T155442Z
UID:b2910c35-4d10-4398-910c-189de888dd08
RRULE:FREQ=WEEKLY
CREATED:20260317T155403Z
LAST-MODIFIED:20260317T155442Z
TRANSP:OPAQUE
END:VEVENT
BEGIN:VEVENT
SUMMARY:Busy
DTSTART;TZID=America/New_York:20260418T110000
DTEND;TZID=America/New_York:20260418T170000
UID:b4801f83-f823-429e-819c-2bb59bb072a9
CLASS:CONFIDENTIAL
CREATED:20260317T191815Z
END:VEVENT
BEGIN:VEVENT
SUMMARY:Zumba
DTSTART;TZID=America/New_York:20260307T080000
DTEND;TZID=America/New_York:20260307T090000
DTSTAMP:20260317T155359Z
UID:bd2706d1-c360-44de-bb30-44c064ca7651
RRULE:FREQ=WEEKLY
CREATED:20260317T155334Z
LAST-MODIFIED:20260317T155359Z
TRANSP:OPAQUE
END:VEVENT
BEGIN:VEVENT
SUMMARY:Tai-Chi
DTSTART;TZID=America/New_York:20260310T100000
DTEND;TZID=America/New_York:20260310T113000
DTSTAMP:20260317T170445Z
UID:c82ab0fe-3bfa-4d36-81b3-171046184f8e
RRULE:FREQ=WEEKLY
CREATED:20260317T170359Z
LAST-MODIFIED:20260317T170445Z
TRANSP:OPAQUE
END:VEVENT
BEGIN:VEVENT
SUMMARY:Yoga
DTSTART;TZID=America/New_York:20260304T090000
DTEND;TZID=America/New_York:20260304T100000
DTSTAMP:20260317T155323Z
UID:cc8eab86-349f-47c4-b124-7cb7a654baf8
SEQUENCE:1
RRULE:FREQ=WEEKLY
CREATED:20260317T155221Z
LAST-MODIFIED:20260317T155323Z
TRANSP:OPAQUE
X-MOZ-GENERATION:1
END:VEVENT
BEGIN:VEVENT
SUMMARY:Images of Aging
DTSTART;TZID=America/New_York:20261027T170000
DTEND;TZID=America/New_York:20261027T210000
DTSTAMP:20260326T193022Z
UID:d5a3fe80-6c61-48ac-b009-2712273c56b8
CREATED:20260326T193009Z
LAST-MODIFIED:20260326T193022Z
TRANSP:OPAQUE
END:VEVENT
BEGIN:VEVENT
SUMMARY:Wooden Fender Music
DTSTART;TZID=America/New_York:20260321T190000
DTEND;TZID=America/New_York:20260321T200000
DTSTAMP:20260317T165221Z
UID:df7fe4fa-f4cd-4d93-8138-602bb315cfb3
CREATED:20260317T165202Z
LAST-MODIFIED:20260317T165221Z
TRANSP:OPAQUE
END:VEVENT
BEGIN:VEVENT
SUMMARY:Busy
DTSTART;TZID=America/New_York:20260704T090000
DTEND;TZID=America/New_York:20260704T220000
UID:fc1009d4-dfb5-4d76-82fe-f897c558615d
CLASS:CONFIDENTIAL
CREATED:20260317T193103Z
END:VEVENT
BEGIN:VEVENT
SUMMARY:Tracey Alden Rhythm Circle
DTSTART;TZID=America/New_York:20260301T120000
DTEND;TZID=America/New_York:20260301T170000
DTSTAMP:20260317T192851Z
UID:fe0b3279-72eb-4eda-9667-32b1955020db
RRULE:FREQ=MONTHLY;BYDAY=1SU;WKST=SU
CREATED:20260317T192437Z
LAST-MODIFIED:20260317T192851Z
TRANSP:OPAQUE
END:VEVENT
BEGIN:VEVENT
SUMMARY:Board of Health
DTSTART;TZID=America/New_York:20260415T190000
DTEND;TZID=America/New_York:20260415T200000
DTSTAMP:20260330T175716Z
UID:787b6b33-04eb-44b8-b549-6468653043f1
SEQUENCE:1
RRULE:FREQ=MONTHLY;BYDAY=3WE
CREATED:20260330T175622Z
LAST-MODIFIED:20260330T175716Z
TRANSP:OPAQUE
X-MOZ-GENERATION:1
END:VEVENT
BEGIN:VEVENT
SUMMARY:Busy
DTSTART;VALUE=DATE:20250228
DTEND;VALUE=DATE:20250301
UID:94c4f22a-6263-4d7d-a3c6-f86ecd23c441
CLASS:CONFIDENTIAL
CREATED:20250210T181602Z
END:VEVENT
BEGIN:VEVENT
SUMMARY:Busy
DTSTART;TZID=America/New_York:20250225T150000
DTEND;TZID=America/New_York:20250225T160000
UID:941ec201-d0af-48ac-885e-7141cf43278c
CLASS:CONFIDENTIAL
CREATED:20250210T181617Z
END:VEVENT
BEGIN:VEVENT
SUMMARY:Technology Help
DTSTART;TZID=America/New_York:20260303T130000
DTEND;TZID=America/New_York:20260303T180000
DTSTAMP:20260318T153420Z
UID:3f70f0e5-3f4b-42b7-880a-b382ec719e18
RRULE:FREQ=WEEKLY
CREATED:20260318T151601Z
DESCRIPTION;ALTREP="data:text/html,Tech%20Help%20gathering%20at%20the%20Wa
 rwick%20Inn%20includes%20more%20than%20problem%20solving%20for%20your%20te
 chnical%20and%20device%20issues;%3Cbr%3Ecoffee,%20tea,%20cocoa,%20and%20li
 vely%20conversation%20are%20all%20included.":Tech Help gathering at the Wa
 rwick Inn includes more than problem solving for your technical and device
  issues\;\ncoffee\, tea\, cocoa\, and lively conversation are all included
 .
LAST-MODIFIED:20260318T153420Z
LOCATION:22 Hotel Rd\, Warwick\, MA 01378
TRANSP:OPAQUE
X-MOZ-GENERATION:1
END:VEVENT
BEGIN:VEVENT
SUMMARY:Technology Help
DTSTART;TZID=America/New_York:20260305T090000
DTEND;TZID=America/New_York:20260305T120000
DTSTAMP:20260318T153426Z
UID:51f81dd7-c12b-434c-bda1-d11decc523c0
RRULE:FREQ=WEEKLY
CREATED:20260318T151408Z
DESCRIPTION;ALTREP="data:text/html,Tech%20Help%20gathering%20at%20the%20Wa
 rwick%20Inn%20includes%20more%20than%20problem%20%0Asolving%20for%20your%2
 0technical%20and%20device%20issues;%3Cbr%3Ecoffee,%20tea,%20cocoa,%20and%2
 0%0Alively%20conversation%20are%20all%20included.":Tech Help gathering at 
 the Warwick Inn includes more than problem \nsolving for your technical an
 d device issues\;\ncoffee\, tea\, cocoa\, and \nlively conversation are al
 l included.
LAST-MODIFIED:20260318T153426Z
LOCATION:22 Hotel Rd\, Warwick\, MA 01378
TRANSP:OPAQUE
X-MOZ-GENERATION:2
END:VEVENT
BEGIN:VEVENT
SUMMARY:Roadside Cleanup
DTSTART;TZID=America/New_York:20260418T100000
DTEND;TZID=America/New_York:20260418T130000
DTSTAMP:20260318T152020Z
UID:c19516f2-6bd8-4497-9345-15b9bea1c74d
CREATED:20260105T192511Z
LAST-MODIFIED:20260318T152020Z
TRANSP:OPAQUE
X-MOZ-GENERATION:1
END:VEVENT
BEGIN:VEVENT
SUMMARY:Busy
DTSTART;TZID=America/New_York:20250227T100000
DTEND;TZID=America/New_York:20250227T110000
UID:867b1e14-169d-4eba-8212-e83c277d3536
CLASS:CONFIDENTIAL
CREATED:20250210T181549Z
END:VEVENT
BEGIN:VEVENT
SUMMARY:Busy
DTSTART;TZID=America/New_York:20260321T100000
DTEND;TZID=America/New_York:20260321T170000
UID:40062a5a-6b74-44db-9c64-40eb5509fe16
CLASS:CONFIDENTIAL
CREATED:20260317T192951Z
END:VEVENT
BEGIN:VEVENT
SUMMARY:Busy
DTSTART;TZID=America/New_York:20260418T110000
DTEND;TZID=America/New_York:20260418T170000
UID:6b3c0fb8-c6db-41d9-8b36-e60d7e0551e9
CLASS:CONFIDENTIAL
CREATED:20260317T191938Z
END:VEVENT
BEGIN:VEVENT
SUMMARY:Tracey Alden Drum Bag Making
DTSTART;TZID=America/New_York:20260419T120000
DTEND;TZID=America/New_York:20260419T180000
DTSTAMP:20260318T195227Z
UID:6bf84841-96b8-4340-9e22-829619422b1f
CLASS:PUBLIC
CREATED:20260317T192327Z
LAST-MODIFIED:20260318T195227Z
TRANSP:OPAQUE
X-MOZ-GENERATION:1
END:VEVENT
BEGIN:VEVENT
SUMMARY:Senior Meal
DTSTART;TZID=America/New_York:20260317T120000
DTEND;TZID=America/New_York:20260317T130000
DTSTAMP:20260316T174149Z
UID:8e702daa-658c-4128-8d4e-4613c71a1b0d
RRULE:FREQ=WEEKLY
CREATED:20260316T174044Z
LAST-MODIFIED:20260316T174149Z
TRANSP:OPAQUE
END:VEVENT
BEGIN:VEVENT
SUMMARY:St.Patrick's Day Dinner
DTSTART;TZID=America/New_York:20260321T173000
DTEND;TZID=America/New_York:20260321T193000
DTSTAMP:20260317T193027Z
UID:cc08e2d6-3eae-4bc4-8137-2e55575bb706
CREATED:20260317T155520Z
LAST-MODIFIED:20260317T193027Z
TRANSP:OPAQUE
END:VEVENT
BEGIN:VEVENT
SUMMARY:Busy
DTSTART;TZID=America/New_York:20260704T090000
DTEND;TZID=America/New_York:20260704T220000
UID:cd63e726-1288-41bf-b8ab-cb039c80ff67
CLASS:CONFIDENTIAL
CREATED:20260317T193143Z
END:VEVENT
BEGIN:VEVENT
SUMMARY:Warwick Young Folks Game Night
DTSTART;TZID=America/New_York:20250214T170000
DTEND;TZID=America/New_York:20250214T220000
DTSTAMP:20250825T181332Z
UID:cf4e532f-ab7f-40a7-93ff-cd76c25b5cb8
RRULE:FREQ=MONTHLY;BYDAY=2FR
CREATED:20250210T184107Z
DESCRIPTION;ALTREP="data:text/html,A%20monthly%20hang%20out%20for%20folks%
 20in%20town%20over%2018%20and%20under%2050ish.%20%3Cbr%3ECome%20play%20boa
 rd%20games%20and%20meet%20the%20other%20Warwick%20people%20not-yet-retired
 !":A monthly hang out for folks in town over 18 and under 50ish. \nCome pl
 ay board games and meet the other Warwick people not-yet-retired!
LAST-MODIFIED:20250825T181332Z
TRANSP:OPAQUE
X-MOZ-GENERATION:3
END:VEVENT
BEGIN:VEVENT
SUMMARY:Warwick Young Folks Game Night
DTSTART;TZID=America/New_York:20250919T170000
DTEND;TZID=America/New_York:20250919T220000
DTSTAMP:20250825T181332Z
UID:cf4e532f-ab7f-40a7-93ff-cd76c25b5cb8
RECURRENCE-ID;TZID=America/New_York:20250912T170000
SEQUENCE:1
CREATED:20250825T181311Z
DESCRIPTION:A monthly hang out for folks in town over 18 and under 50ish. 
 \nCome play board games and meet the other Warwick people not-yet-retired!
LAST-MODIFIED:20250825T181332Z
TRANSP:OPAQUE
X-MOZ-GENERATION:3
END:VEVENT
BEGIN:VEVENT
SUMMARY:Busy
DTSTART;TZID=America/New_York:20260823T080000
DTEND;TZID=America/New_York:20260823T200000
UID:f27012ce-1498-416c-bac6-e2c08341750d
CLASS:CONFIDENTIAL
CREATED:20260416T194823Z
END:VEVENT
BEGIN:VEVENT
SUMMARY:Busy
DTSTART;TZID=America/New_York:20260320T100000
DTEND;TZID=America/New_York:20260320T170000
UID:f854c1f7-ab9e-4aa9-b0ab-6c8ab77cc6da
CLASS:CONFIDENTIAL
CREATED:20260317T192908Z
END:VEVENT
END:VCALENDAR
